BEGIN:VCALENDAR
VERSION:2.0
PRODID:-//Un increíble destino turístico, México - ECPv6.15.20//NONSGML v1.0//EN
CALSCALE:GREGORIAN
METHOD:PUBLISH
X-WR-CALNAME:Un increíble destino turístico, México
X-ORIGINAL-URL:https://eventos.visitasanluispotosi.com
X-WR-CALDESC:Eventos para Un increíble destino turístico, México
REFRESH-INTERVAL;VALUE=DURATION:PT1H
X-Robots-Tag:noindex
X-PUBLISHED-TTL:PT1H
BEGIN:VTIMEZONE
TZID:UTC
BEGIN:STANDARD
TZOFFSETFROM:+0000
TZOFFSETTO:+0000
TZNAME:UTC
DTSTART:20250101T000000
END:STANDARD
END:VTIMEZONE
BEGIN:VEVENT
DTSTART;TZID=UTC:20261010T210000
DTEND;TZID=UTC:20261010T230000
DTSTAMP:20260419T173332
CREATED:20260212T195611Z
LAST-MODIFIED:20260212T195611Z
UID:537-1791666000-1791673200@eventos.visitasanluispotosi.com
SUMMARY:Humbe
DESCRIPTION:¡Ahora es el turno de vivir una noche inolvidable con Humbe! \nEste talentoso cantautor\, una de las voces más prometedoras del pop latino\, llega para conquistar corazones con su mezcla única de pop alternativo\, R&B y piano. Su sonido íntimo y profundamente emotivo convierte cada presentación en una experiencia cercana\, de esas que se sienten en la piel. \nHumbe no solo interpreta canciones\, comparte historias reales sobre vulnerabilidad\, salud mental y crecimiento personal\, conectando con una generación que busca autenticidad y mensajes que inspiran. Su honestidad lírica y sensibilidad artística lo han posicionado como un referente de la nueva ola musical. \nEn San Luis Potosí seguimos sumando experiencias que emocionan\, unen y dejan huella. Prepárate para cantar\, sentir y conectar. Consulta nuestra agenda\, arma tu plan y ven a vivir la magia de nuestros eventos. ¡Nos vemos en primera fila!
URL:https://eventos.visitasanluispotosi.com/event/humbe/
LOCATION:Teatro de la Ciudad Tangamanga II\, Teatro de la Ciudad\, Parque Tangamanga II Fray Diego de la Magdalena\, SAN LUIS POTOSÍ\, San Luis Potosí\, 78140\, Mexico
CATEGORIES:Concierto
ATTACH;FMTTYPE=image/webp:https://eventos.visitasanluispotosi.com/wp-content/uploads/2026/02/101026-Humbe.webp
END:VEVENT
END:VCALENDAR