BEGIN:VCALENDAR
VERSION:2.0
PRODID:-//Un increíble destino turístico, México - ECPv6.15.20//NONSGML v1.0//EN
CALSCALE:GREGORIAN
METHOD:PUBLISH
X-ORIGINAL-URL:https://eventos.visitasanluispotosi.com
X-WR-CALDESC:Eventos para Un increíble destino turístico, México
REFRESH-INTERVAL;VALUE=DURATION:PT1H
X-Robots-Tag:noindex
X-PUBLISHED-TTL:PT1H
BEGIN:VTIMEZONE
TZID:UTC
BEGIN:STANDARD
TZOFFSETFROM:+0000
TZOFFSETTO:+0000
TZNAME:UTC
DTSTART:20250101T000000
END:STANDARD
END:VTIMEZONE
BEGIN:VEVENT
DTSTART;TZID=UTC:20260606T203000
DTEND;TZID=UTC:20260606T220000
DTSTAMP:20260419T145544
CREATED:20260127T195241Z
LAST-MODIFIED:20260127T195241Z
UID:511-1780777800-1780783200@eventos.visitasanluispotosi.com
SUMMARY:Lord of the Dance
DESCRIPTION:San Luis Potosí se prepara para vivir una noche épica que hará vibrar los sentidos. El 6 de junio de 2026\, el escenario se llena de magia\, ritmo y emoción con la llegada de Lord of the Dance\, uno de los espectáculos de danza más impresionantes del mundo. Creado\, coreografiado y producido por el legendario bailarín irlandés-estadounidense Michael Flatley\, este show es un auténtico viaje entre fuerza\, tradición y fantasía. \nCon la poderosa música original de Ronan Hardiman\, cada zapateo retumba en el corazón y cada movimiento cuenta una historia que atrapa desde el primer segundo. Lord of the Dance no es solo danza\, es una experiencia visual y sonora que ha conquistado escenarios internacionales… y ahora llega a San Luis Potosí. \nEste concierto se suma a la agenda vibrante de exposiciones\, eventos deportivos y espectáculos que hacen del estado un destino perfecto para el turismo cultural. Ven\, disfruta el show y déjate sorprender: en San Luis Potosí\, siempre hay un gran evento esperándote
URL:https://eventos.visitasanluispotosi.com/event/lord-of-the-dance/
LOCATION:Teatro Parque Tamgamanga I\, TEATRO DEL PUEBLO Parque Tangamanga I\, SAN LUIS POTOSÍ\, San Luis Potosí\, 78294\, Mexico
CATEGORIES:Culturales,Teatro
ATTACH;FMTTYPE=image/webp:https://eventos.visitasanluispotosi.com/wp-content/uploads/2026/01/180426-LoroftheDance.webp
END:VEVENT
END:VCALENDAR