BEGIN:VCALENDAR
VERSION:2.0
PRODID:-//Un increíble destino turístico, México - ECPv6.15.20//NONSGML v1.0//EN
CALSCALE:GREGORIAN
METHOD:PUBLISH
X-WR-CALNAME:Un increíble destino turístico, México
X-ORIGINAL-URL:https://eventos.visitasanluispotosi.com
X-WR-CALDESC:Eventos para Un increíble destino turístico, México
REFRESH-INTERVAL;VALUE=DURATION:PT1H
X-Robots-Tag:noindex
X-PUBLISHED-TTL:PT1H
BEGIN:VTIMEZONE
TZID:UTC
BEGIN:STANDARD
TZOFFSETFROM:+0000
TZOFFSETTO:+0000
TZNAME:UTC
DTSTART:20250101T000000
END:STANDARD
END:VTIMEZONE
BEGIN:VEVENT
DTSTART;TZID=UTC:20260503T060000
DTEND;TZID=UTC:20260503T120000
DTSTAMP:20260419T120922
CREATED:20260414T195829Z
LAST-MODIFIED:20260414T200153Z
UID:704-1777788000-1777809600@eventos.visitasanluispotosi.com
SUMMARY:Cross Tamasopo
DESCRIPTION:Prepárate para vivir una experiencia donde la adrenalina\, la naturaleza y la música se combinan en un solo latido. Este 3 de mayo\, el corazón de la Huasteca Potosina vibrará con el CROSS TAMASOPO: Que Suene Corriendo\, un evento que promete mucho más que una carrera. \nEn Tamasopo\, correrás entre paisajes impresionantes\, rodeado de ríos cristalinos\, cascadas y una energía que solo este destino puede ofrecer. No importa si eres corredor experto o amante de las nuevas experiencias\, aquí lo importante es disfrutar cada paso. \nPero esto no termina en la meta… el ambiente continúa con música\, convivencia y ese toque festivo que convierte el evento en una verdadera celebración. \nArma tu plan con amigos\, activa tu espíritu aventurero y déjate sorprender por todo lo que Tamasopo tiene preparado. \nPorque en San Luis Potosí\, ¡los eventos también se viven corriendo!
URL:https://eventos.visitasanluispotosi.com/event/cross-tamasopo/
LOCATION:Plaza Tamasopo\, Plaza principal Tamasopo\, Tamasopo\, S.L.P.\, 79710\, Mexico
CATEGORIES:Deportivos
ATTACH;FMTTYPE=image/webp:https://eventos.visitasanluispotosi.com/wp-content/uploads/2026/04/030526-CrossTamsopo.webp
END:VEVENT
END:VCALENDAR