BEGIN:VCALENDAR
VERSION:2.0
PRODID:-//Un increíble destino turístico, México - ECPv6.15.20//NONSGML v1.0//EN
CALSCALE:GREGORIAN
METHOD:PUBLISH
X-ORIGINAL-URL:https://eventos.visitasanluispotosi.com
X-WR-CALDESC:Eventos para Un increíble destino turístico, México
REFRESH-INTERVAL;VALUE=DURATION:PT1H
X-Robots-Tag:noindex
X-PUBLISHED-TTL:PT1H
BEGIN:VTIMEZONE
TZID:UTC
BEGIN:STANDARD
TZOFFSETFROM:+0000
TZOFFSETTO:+0000
TZNAME:UTC
DTSTART:20250101T000000
END:STANDARD
END:VTIMEZONE
BEGIN:VEVENT
DTSTART;TZID=UTC:20260502T100000
DTEND;TZID=UTC:20260502T180000
DTSTAMP:20260419T121153
CREATED:20260414T194631Z
LAST-MODIFIED:20260414T195143Z
UID:698-1777716000-1777744800@eventos.visitasanluispotosi.com
SUMMARY:Ronque de Atún
DESCRIPTION:Si eres amante de las experiencias únicas\, este plan en Viñedo Cava Quintanilla te va a conquistar desde el primer instante. El próximo sábado 2 de mayo\, prepárate para vivir un día que combina lo mejor del vino\, la naturaleza y la gastronomía internacional. \nLa aventura inicia entre viñedos a las 10:00 am\, con recorridos que te conectan con el origen de cada copa. Más tarde\, la recepción da paso a uno de los espectáculos más fascinantes: el ronqueo de atún en vivo\, una tradición japonesa que transforma cada corte en arte puro. \nY como todo gran evento merece un gran final\, podrás disfrutar de un buffet japonés con atún fresco\, ideal para compartir\, saborear y dejarte llevar sin prisas. \nUn plan diferente\, delicioso y perfecto para escaparte y celebrar la vida.
URL:https://eventos.visitasanluispotosi.com/event/ronque-de-atun/
LOCATION:Cava Quintanilla\, Cava Quintanilla Moctezuma\, San Luis Potosí\, Moctezuma\, S.L.P.\, 78906\, Mexico
CATEGORIES:Deportivos,Ferias y festivales
ATTACH;FMTTYPE=image/webp:https://eventos.visitasanluispotosi.com/wp-content/uploads/2026/04/020526-Ronqueo.webp
END:VEVENT
BEGIN:VEVENT
DTSTART;TZID=UTC:20260502T210000
DTEND;TZID=UTC:20260502T230000
DTSTAMP:20260419T121153
CREATED:20260213T183543Z
LAST-MODIFIED:20260213T183543Z
UID:540-1777755600-1777762800@eventos.visitasanluispotosi.com
SUMMARY:Melendi
DESCRIPTION:Prepárate para cantar a todo pulmón porque Melendi llega a San Luis Potosí con su esperado Tour México 2026. Este 2 de mayo\, el escenario del Teatro de la Ciudad en el icónico Parque Tangamanga I vibrará con cada acorde y cada historia hecha canción. \nLa agenda cultural y deportiva del estado está más viva que nunca: conciertos internacionales\, expos llenas de innovación\, festivales culturales y eventos deportivos que nos ponen en movimiento. \nLa visita de Melendi es la excusa perfecta para armar el plan completo: recorrer la ciudad\, disfrutar su arquitectura\, probar su deliciosa gastronomía y cerrar la noche coreando tus canciones favoritas. \nHaz que tu calendario marque esta fecha y vive la experiencia. Porque en San Luis Potosí siempre hay algo que celebrar… y esta vez\, ¡se canta en grande!
URL:https://eventos.visitasanluispotosi.com/event/melendi/
LOCATION:Teatro Parque Tamgamanga I\, TEATRO DEL PUEBLO Parque Tangamanga I\, SAN LUIS POTOSÍ\, San Luis Potosí\, 78294\, Mexico
CATEGORIES:Concierto
ATTACH;FMTTYPE=image/webp:https://eventos.visitasanluispotosi.com/wp-content/uploads/2026/02/160526-Melendi.webp
END:VEVENT
END:VCALENDAR