BEGIN:VCALENDAR
VERSION:2.0
PRODID:-//Un increíble destino turístico, México - ECPv6.15.20//NONSGML v1.0//EN
CALSCALE:GREGORIAN
METHOD:PUBLISH
X-ORIGINAL-URL:https://eventos.visitasanluispotosi.com
X-WR-CALDESC:Eventos para Un increíble destino turístico, México
REFRESH-INTERVAL;VALUE=DURATION:PT1H
X-Robots-Tag:noindex
X-PUBLISHED-TTL:PT1H
BEGIN:VTIMEZONE
TZID:UTC
BEGIN:STANDARD
TZOFFSETFROM:+0000
TZOFFSETTO:+0000
TZNAME:UTC
DTSTART:20250101T000000
END:STANDARD
END:VTIMEZONE
BEGIN:VEVENT
DTSTART;TZID=UTC:20260320T190000
DTEND;TZID=UTC:20260320T210000
DTSTAMP:20260419T134025
CREATED:20260307T023718Z
LAST-MODIFIED:20260307T024000Z
UID:605-1774033200-1774040400@eventos.visitasanluispotosi.com
SUMMARY:La Gran Fiesta del Mariachi
DESCRIPTION:La noche se celebra en grande con La Gran Fiesta del Mariachi\, una noche llena de orgullo y sentimiento. El escenario vibrara con el talento del Mariachi Internacional de Los Pérez\, Mariachi México Vive\, Mariachi Águila de Santa Elena Pinos y Banda La Exclusiva\, quienes pondrán a bailar y cantar a los presentes. Un plan perfecto para disfrutar la noche y la esencia de México. Ven a vivir una velada que promete emoción desde principio a fin en San Luis Potosí.
URL:https://eventos.visitasanluispotosi.com/event/la-gran-fiesta-del-mariachi/
LOCATION:Lienzo Rancho del Charro\, Lienzo "Rancho del Charro" San Juan de Guadalupe\, San Luis Potosí\, S.L.P.\, 78340\, Mexico
CATEGORIES:Concierto
ATTACH;FMTTYPE=image/webp:https://eventos.visitasanluispotosi.com/wp-content/uploads/2026/03/200326-FiestaMariachi.webp
END:VEVENT
BEGIN:VEVENT
DTSTART;TZID=UTC:20260320T210000
DTEND;TZID=UTC:20260320T223000
DTSTAMP:20260419T134025
CREATED:20260203T174303Z
LAST-MODIFIED:20260203T174303Z
UID:520-1774040400-1774045800@eventos.visitasanluispotosi.com
SUMMARY:Nicho Hinojosa
DESCRIPTION:Marzo llega cargado de emociones y uno de los imperdibles del mes es el regreso de Nicho Hinojosa\, el cantautor que ha puesto banda sonora a historias de amor\, desamor y nostalgia. \nEste 20 de marzo\, la Cineteca Alameda se transforma en un refugio bohemio para recibir una velada 100% romántica. A partir de las 9:00 pm\, las guitarras\, las letras profundas y esa voz inconfundible nos invitan a cantar\, suspirar y brindar por los buenos momentos. \nEventos como este confirman que San Luis Potosí no solo se disfruta de día\, también se vive intensamente de noche. Conciertos\, ferias\, festivales y actividades culturales hacen de nuestro estado un destino vibrante todo el año. \nAdquiere tus boletos\, arma el plan y déjate llevar por la magia musical. San Luis Potosí te espera esta temporada llena de emociones.
URL:https://eventos.visitasanluispotosi.com/event/nicho-hinojosa/
LOCATION:Cineteca Alameda\, Cineteca Alameda Avenida Universidad 575\, Central\, SAN LUIS POTOSÍ\, San Luis Potosí\, 78000\, Mexico
CATEGORIES:Concierto
ATTACH;FMTTYPE=image/webp:https://eventos.visitasanluispotosi.com/wp-content/uploads/2026/02/200326-NichoHinojosa.webp
END:VEVENT
END:VCALENDAR