BEGIN:VCALENDAR
VERSION:2.0
PRODID:-//Un increíble destino turístico, México - ECPv6.15.20//NONSGML v1.0//EN
CALSCALE:GREGORIAN
METHOD:PUBLISH
X-WR-CALNAME:Un increíble destino turístico, México
X-ORIGINAL-URL:https://eventos.visitasanluispotosi.com
X-WR-CALDESC:Eventos para Un increíble destino turístico, México
REFRESH-INTERVAL;VALUE=DURATION:PT1H
X-Robots-Tag:noindex
X-PUBLISHED-TTL:PT1H
BEGIN:VTIMEZONE
TZID:UTC
BEGIN:STANDARD
TZOFFSETFROM:+0000
TZOFFSETTO:+0000
TZNAME:UTC
DTSTART:20250101T000000
END:STANDARD
END:VTIMEZONE
BEGIN:VEVENT
DTSTART;TZID=UTC:20260314T090000
DTEND;TZID=UTC:20260315T220000
DTSTAMP:20260419T133701
CREATED:20260307T011727Z
LAST-MODIFIED:20260307T011727Z
UID:584-1773478800-1773612000@eventos.visitasanluispotosi.com
SUMMARY:2da Edición Festival Primavera Surreal
DESCRIPTION:La segunda edición del Festival Primavera Surreal llenará de vida a Xilitla los días 14 y 15 de marzo\, con una agenda vibrante que celebra el arte\, la cultura y la identidad huasteca. Durante el fin de semana\, visitantes podrán disfrutar presentaciones musicales\, expresiones escénicas\, actividades culturales y una atmósfera llena de color y tradición en distintos espacios del Pueblo Mágico.
URL:https://eventos.visitasanluispotosi.com/event/2da-edicion-festival-primavera-surreal/
LOCATION:Plaza Principal Xilitla\, Plaza Principal Xilitla Jardín Hidalgo\, Xilitla\, S.L.P.\, 78900\, Mexico
CATEGORIES:Culturales,Ferias y festivales
ATTACH;FMTTYPE=image/webp:https://eventos.visitasanluispotosi.com/wp-content/uploads/2026/03/150326-PrimaveraSurreal.webp
END:VEVENT
BEGIN:VEVENT
DTSTART;TZID=UTC:20260314T190000
DTEND;TZID=UTC:20260319T233000
DTSTAMP:20260419T133701
CREATED:20260301T220224Z
LAST-MODIFIED:20260301T220526Z
UID:575-1773514800-1773963000@eventos.visitasanluispotosi.com
SUMMARY:Feria Regional de Villa Hidalgo
DESCRIPTION:La feria esta en su punto más alto con la Feria Regional de Villa Hidalgo (FEREVHI)\, una celebración que combina tradición\, música y convivencia en un ambiente lleno de energía. En el teatro del pueblo podrás disfrutar de presentaciones de grupos como «Los Avila»\, «Los Contrabandistas» y «Conjunto Primavera»\, quienes pondrán ritmo a tu visita. Es el plan perfecto para vivir música en vivo\, cultura local y mucha diversión. Si quieres sentir de cerca el espíritu del Altiplano Potosino\, este evento es imperdible.
URL:https://eventos.visitasanluispotosi.com/event/feria-regional-de-villa-hidalgo/
LOCATION:Villa Hidalgo\, Presidencia Municipal de Villa Hidalgo\, Villa Hidalgo\, S.L.P.\, 78960\, Mexico
CATEGORIES:Concierto,Culturales,Ferias y festivales
ATTACH;FMTTYPE=image/webp:https://eventos.visitasanluispotosi.com/wp-content/uploads/2026/03/190326-FEREVHI.webp
END:VEVENT
END:VCALENDAR