BEGIN:VCALENDAR
VERSION:2.0
PRODID:-//Un increíble destino turístico, México - ECPv6.15.20//NONSGML v1.0//EN
CALSCALE:GREGORIAN
METHOD:PUBLISH
X-WR-CALNAME:Un increíble destino turístico, México
X-ORIGINAL-URL:https://eventos.visitasanluispotosi.com
X-WR-CALDESC:Eventos para Un increíble destino turístico, México
REFRESH-INTERVAL;VALUE=DURATION:PT1H
X-Robots-Tag:noindex
X-PUBLISHED-TTL:PT1H
BEGIN:VTIMEZONE
TZID:UTC
BEGIN:STANDARD
TZOFFSETFROM:+0000
TZOFFSETTO:+0000
TZNAME:UTC
DTSTART:20250101T000000
END:STANDARD
END:VTIMEZONE
BEGIN:VEVENT
DTSTART;TZID=UTC:20260313T210000
DTEND;TZID=UTC:20260313T230000
DTSTAMP:20260419T133836
CREATED:20260307T020837Z
LAST-MODIFIED:20260307T020837Z
UID:590-1773435600-1773442800@eventos.visitasanluispotosi.com
SUMMARY:Dread Mar I
DESCRIPTION:La buena energía está por apoderarse del escenario con la llegada de Dread Mar I\, el máximo referente del reggae en español. Con más de dos décadas compartiendo mensajes de amor y paz\, su música se ha convertido en la banda sonora de millones. Himnos como «Tu Sin Mí» prometen corearse a una sola voz en una noche llena de ritmo y conexión. Si buscas un concierto que te haga sentir\, cantar y fluir\, esta experiencia es simplemente imperdible en San Luis Potosí.
URL:https://eventos.visitasanluispotosi.com/event/dread-mar-i/
LOCATION:Teatro Parque Tamgamanga I\, TEATRO DEL PUEBLO Parque Tangamanga I\, SAN LUIS POTOSÍ\, San Luis Potosí\, 78294\, Mexico
CATEGORIES:Concierto
ATTACH;FMTTYPE=image/webp:https://eventos.visitasanluispotosi.com/wp-content/uploads/2026/03/130326-Dread.webp
END:VEVENT
END:VCALENDAR