BEGIN:VCALENDAR
VERSION:2.0
PRODID:-//Un increíble destino turístico, México - ECPv6.15.20//NONSGML v1.0//EN
CALSCALE:GREGORIAN
METHOD:PUBLISH
X-ORIGINAL-URL:https://eventos.visitasanluispotosi.com
X-WR-CALDESC:Eventos para Un increíble destino turístico, México
REFRESH-INTERVAL;VALUE=DURATION:PT1H
X-Robots-Tag:noindex
X-PUBLISHED-TTL:PT1H
BEGIN:VTIMEZONE
TZID:UTC
BEGIN:STANDARD
TZOFFSETFROM:+0000
TZOFFSETTO:+0000
TZNAME:UTC
DTSTART:20250101T000000
END:STANDARD
END:VTIMEZONE
BEGIN:VEVENT
DTSTART;TZID=UTC:20260301T170000
DTEND;TZID=UTC:20260308T233000
DTSTAMP:20260419T134004
CREATED:20260301T211845Z
LAST-MODIFIED:20260301T212438Z
UID:551-1772384400-1773012600@eventos.visitasanluispotosi.com
SUMMARY:Feria Regional de Salinas
DESCRIPTION:Tradición\, fiesta y orgullo regional se viven al máximo en la FERESA\, una de las celebraciones más esperadas del altiplano potosino. Música en vivo\, cultura\, sabores auténticos y exposiciones que resaltan la riqueza agrícola y ganadera se unen en una experiencia llena de identidad y alegría. Entre coronaciones\, muestras de mezcal y ambiente festivo\, cada día se convierte en un motivo para celebrar. Si quieres conocer el corazón festivo del estado\, no te puedes perder esta gran fiesta en Salinas.
URL:https://eventos.visitasanluispotosi.com/event/feria-regional-de-salinas/
LOCATION:Salinas de Hidalgo\, Presidencia Municipal Mariano Abasolo Centro\, Salinas de Hidalgo\, Salinas de Hidalgo\, S.L.P.\, 78620\, Mexico
CATEGORIES:Concierto,Culturales,Ferias y festivales
ATTACH;FMTTYPE=image/webp:https://eventos.visitasanluispotosi.com/wp-content/uploads/2026/03/210226-Feresa.webp
END:VEVENT
BEGIN:VEVENT
DTSTART;TZID=UTC:20260308T080000
DTEND;TZID=UTC:20260308T120000
DTSTAMP:20260419T134004
CREATED:20260307T021347Z
LAST-MODIFIED:20260307T021347Z
UID:593-1772956800-1772971200@eventos.visitasanluispotosi.com
SUMMARY:Enlace Violeta Run
DESCRIPTION:La agenda deportiva se llena de energía con Enlace Violeta Run\, una carrera recreativa femenil que invita a activarse y disfrutar el movimiento en un ambiente motivador. Ven a vivir un encuentro donde el deporte se convierte en unión\, bienestar y fuerza colectiva. Más que una carrera\, es un movimiento que inspira hábitos saludables y crear redes de apoyo.\nSi buscas un plan con propósito\, comunidad y mucha actitud\, este evento es uno que no te puedes perder en San Luis Potosí.
URL:https://eventos.visitasanluispotosi.com/event/enlace-violeta-run/
LOCATION:Plaza de los Fundadores\, Plaza de los Fundadores\, Centro Histórico San Luis Potosí\, San Luis Potosí\, S.L.P.\, 78000
CATEGORIES:Deportivos
ATTACH;FMTTYPE=image/webp:https://eventos.visitasanluispotosi.com/wp-content/uploads/2026/03/080326-EnlaceRun.webp
END:VEVENT
BEGIN:VEVENT
DTSTART;TZID=UTC:20260308T120000
DTEND;TZID=UTC:20260308T150000
DTSTAMP:20260419T134004
CREATED:20260307T021944Z
LAST-MODIFIED:20260307T021944Z
UID:596-1772971200-1772982000@eventos.visitasanluispotosi.com
SUMMARY:D'Car Fest Demolition Derby
DESCRIPTION:La emoción sobre ruedas llega a San Luis Potosí con el D’Car Fest Demolition Derby MX\, un espectáculo donde la adrenalina\, los motores y los choques controlados se convierten en los protagonistas. Pilotos locales y nacionales. Demostraran su destreza al volante en una competencia intensa que te mantendra pendiente de todos los detalles. La cita será en el Teatro del Pueblo en la Feria Nacional Potosina\, el plan perfecto para vivir una experiencia cargada de acción\, energía y entretenimiento que no te puedes perder.
URL:https://eventos.visitasanluispotosi.com/event/dcar-fest-demolition-derby/
LOCATION:Palenque de la FENAPO\, Palenque de la Feria Nacional Potosina\, San Luis Potosí\, S.L.P.\, 78384\, Mexico
CATEGORIES:Deportivos
ATTACH;FMTTYPE=image/webp:https://eventos.visitasanluispotosi.com/wp-content/uploads/2026/03/080326-DerbyDemolition.webp
END:VEVENT
BEGIN:VEVENT
DTSTART;TZID=UTC:20260308T210000
DTEND;TZID=UTC:20260308T233000
DTSTAMP:20260419T134004
CREATED:20260301T215503Z
LAST-MODIFIED:20260301T215522Z
UID:571-1773003600-1773012600@eventos.visitasanluispotosi.com
SUMMARY:El Komander
DESCRIPTION:El 8 de marzo Salinas vibrará de emoción con el Komander\, ven y canta cada canción y disfruta de la música del Komander. No te pierdas la feria más esperada\, la Feria Regional de Salinas de Hidalgo.
URL:https://eventos.visitasanluispotosi.com/event/el-komander/
LOCATION:Salinas de Hidalgo\, Presidencia Municipal Mariano Abasolo Centro\, Salinas de Hidalgo\, Salinas de Hidalgo\, S.L.P.\, 78620\, Mexico
CATEGORIES:Concierto,Culturales,Ferias y festivales
ATTACH;FMTTYPE=image/webp:https://eventos.visitasanluispotosi.com/wp-content/uploads/2026/03/080326-Komander.webp
END:VEVENT
END:VCALENDAR