BEGIN:VCALENDAR
VERSION:2.0
PRODID:-//Un increíble destino turístico, México - ECPv6.15.20//NONSGML v1.0//EN
CALSCALE:GREGORIAN
METHOD:PUBLISH
X-ORIGINAL-URL:https://eventos.visitasanluispotosi.com
X-WR-CALDESC:Eventos para Un increíble destino turístico, México
REFRESH-INTERVAL;VALUE=DURATION:PT1H
X-Robots-Tag:noindex
X-PUBLISHED-TTL:PT1H
BEGIN:VTIMEZONE
TZID:UTC
BEGIN:STANDARD
TZOFFSETFROM:+0000
TZOFFSETTO:+0000
TZNAME:UTC
DTSTART:20250101T000000
END:STANDARD
END:VTIMEZONE
BEGIN:VEVENT
DTSTART;TZID=UTC:20260301T170000
DTEND;TZID=UTC:20260308T233000
DTSTAMP:20260419T134115
CREATED:20260301T211845Z
LAST-MODIFIED:20260301T212438Z
UID:551-1772384400-1773012600@eventos.visitasanluispotosi.com
SUMMARY:Feria Regional de Salinas
DESCRIPTION:Tradición\, fiesta y orgullo regional se viven al máximo en la FERESA\, una de las celebraciones más esperadas del altiplano potosino. Música en vivo\, cultura\, sabores auténticos y exposiciones que resaltan la riqueza agrícola y ganadera se unen en una experiencia llena de identidad y alegría. Entre coronaciones\, muestras de mezcal y ambiente festivo\, cada día se convierte en un motivo para celebrar. Si quieres conocer el corazón festivo del estado\, no te puedes perder esta gran fiesta en Salinas.
URL:https://eventos.visitasanluispotosi.com/event/feria-regional-de-salinas/
LOCATION:Salinas de Hidalgo\, Presidencia Municipal Mariano Abasolo Centro\, Salinas de Hidalgo\, Salinas de Hidalgo\, S.L.P.\, 78620\, Mexico
CATEGORIES:Concierto,Culturales,Ferias y festivales
ATTACH;FMTTYPE=image/webp:https://eventos.visitasanluispotosi.com/wp-content/uploads/2026/03/210226-Feresa.webp
END:VEVENT
END:VCALENDAR