BEGIN:VCALENDAR
VERSION:2.0
PRODID:-//Un increíble destino turístico, México - ECPv6.15.20//NONSGML v1.0//EN
CALSCALE:GREGORIAN
METHOD:PUBLISH
X-WR-CALNAME:Un increíble destino turístico, México
X-ORIGINAL-URL:https://eventos.visitasanluispotosi.com
X-WR-CALDESC:Eventos para Un increíble destino turístico, México
REFRESH-INTERVAL;VALUE=DURATION:PT1H
X-Robots-Tag:noindex
X-PUBLISHED-TTL:PT1H
BEGIN:VTIMEZONE
TZID:UTC
BEGIN:STANDARD
TZOFFSETFROM:+0000
TZOFFSETTO:+0000
TZNAME:UTC
DTSTART:20250101T000000
END:STANDARD
END:VTIMEZONE
BEGIN:VEVENT
DTSTART;TZID=UTC:20260226T210000
DTEND;TZID=UTC:20260226T230000
DTSTAMP:20260419T133641
CREATED:20251111T153306Z
LAST-MODIFIED:20251111T153306Z
UID:329-1772139600-1772146800@eventos.visitasanluispotosi.com
SUMMARY:Alan Parsons
DESCRIPTION:San Luis Potosí sigue vibrando con grandes experiencias y esta vez el escenario será el Teatro de la Ciudad del Parque Tangamanga II\, donde Alan Parsons Live Project presentará su gira “The Show Must Go On”. Una oportunidad única para disfrutar la grandeza de un ícono del rock progresivo\, cuyo legado ha marcado generaciones enteras. Prepara tus sentidos para una noche llena de atmósferas sonoras inolvidables\, donde temas como “Eye in the Sky”\, “Time” y “Games People Play” despertarán esa emoción que solo la música en vivo puede provocar. \nEste tipo de eventos hacen de San Luis Potosí un destino imperdible para quienes buscan cultura\, entretenimiento y momentos que se quedan grabados en el corazón. Lo mejor es que puedes complementar tu visita explorando la ciudad\, sus parques\, museos y rincones llenos de historia. Ven a vivir lo extraordinario\, porque aquí cada concierto se convierte en una experiencia para contar.
URL:https://eventos.visitasanluispotosi.com/event/alan-parsons/
LOCATION:Teatro de la Ciudad Tangamanga II\, Teatro de la Ciudad\, Parque Tangamanga II Fray Diego de la Magdalena\, SAN LUIS POTOSÍ\, San Luis Potosí\, 78140\, Mexico
CATEGORIES:Concierto
ATTACH;FMTTYPE=image/webp:https://eventos.visitasanluispotosi.com/wp-content/uploads/2025/11/260226-AlanParsons.webp
END:VEVENT
END:VCALENDAR