BEGIN:VCALENDAR
VERSION:2.0
PRODID:-//Un increíble destino turístico, México - ECPv6.15.20//NONSGML v1.0//EN
CALSCALE:GREGORIAN
METHOD:PUBLISH
X-WR-CALNAME:Un increíble destino turístico, México
X-ORIGINAL-URL:https://eventos.visitasanluispotosi.com
X-WR-CALDESC:Eventos para Un increíble destino turístico, México
REFRESH-INTERVAL;VALUE=DURATION:PT1H
X-Robots-Tag:noindex
X-PUBLISHED-TTL:PT1H
BEGIN:VTIMEZONE
TZID:UTC
BEGIN:STANDARD
TZOFFSETFROM:+0000
TZOFFSETTO:+0000
TZNAME:UTC
DTSTART:20250101T000000
END:STANDARD
END:VTIMEZONE
BEGIN:VEVENT
DTSTART;TZID=UTC:20260422T090000
DTEND;TZID=UTC:20260426T210000
DTSTAMP:20260421T105004
CREATED:20260419T213052Z
LAST-MODIFIED:20260419T213052Z
UID:724-1776848400-1777237200@eventos.visitasanluispotosi.com
SUMMARY:Festival Potosino de Clarinete y Saxofón
DESCRIPTION:San Luis Potosí: Epicentro Mundial del Clarinete y el Saxofón\nDel 22 al 26 de abril\, San Luis Potosí se transforma en el escenario más vibrante para la música de viento con la llegada del Festival Internacional de Clarinete y Saxofón 2026. Durante cinco días\, las calles y recintos históricos de la capital potosina vibrarán con el talento de virtuosos provenientes de Francia\, Brasil\, Chile y México\, convirtiendo al estado en un punto de encuentro cultural imperdible. \nEste festival ofrece una cartelera de lujo que incluye conciertos de gala\, clases magistrales y exposiciones de instrumentos de primer nivel. Los asistentes podrán aprender de figuras internacionales como Nicolas Arsenijevic y Kathya Galleguillos\, explorando nuevas técnicas en un entorno de intercambio artístico único. \nMás allá de las notas musicales\, esta es la oportunidad perfecta para descubrir la magia de San Luis Potosí\, su arquitectura colonial y su calidez. Si eres músico o amante del arte\, ven y vive una experiencia sonora inolvidable en el corazón de México.
URL:https://eventos.visitasanluispotosi.com/event/festival-potosino-de-clarinete-y-saxofon/
CATEGORIES:Concierto,Culturales,Ferias y festivales
ATTACH;FMTTYPE=image/webp:https://eventos.visitasanluispotosi.com/wp-content/uploads/2026/04/260426-Clarinete.webp
END:VEVENT
BEGIN:VEVENT
DTSTART;TZID=UTC:20260424T200000
DTEND;TZID=UTC:20260424T220000
DTSTAMP:20260421T105004
CREATED:20260203T175050Z
LAST-MODIFIED:20260203T175050Z
UID:523-1777060800-1777068000@eventos.visitasanluispotosi.com
SUMMARY:Víctor Mendívil y Kevin AMF
DESCRIPTION:Uno de los momentos más esperados será la presentación de Víctor Mendívil y Kevin AMF\, quienes llegarán al Palenque de la FENAPO el viernes 24 de abril de 2026 para regalar una noche cargada de emociones\, letras que se corean a todo pulmón y un ambiente que solo San Luis sabe crear. \nPero el plan no termina ahí: antes y después del concierto\, la ciudad te invita a recorrer su Centro Histórico\, disfrutar su gastronomía y sumarte a las exposiciones y actividades que siempre están ocurriendo. Consigue tus boletos en Mariscos Jorge o en la Cineteca Alameda\, arma el plan con tu gente y déjate llevar por el ritmo. Porque en San Luis Potosí\, cada evento es la excusa perfecta para volver… o quedarte un poco más.
URL:https://eventos.visitasanluispotosi.com/event/victor-mendivil-y-kevin-amf/
LOCATION:Palenque de la FENAPO\, Palenque de la Feria Nacional Potosina\, San Luis Potosí\, S.L.P.\, 78384\, Mexico
CATEGORIES:Concierto
ATTACH;FMTTYPE=image/webp:https://eventos.visitasanluispotosi.com/wp-content/uploads/2026/02/240426-VictorMedivil.webp
END:VEVENT
END:VCALENDAR